BEGIN:VCALENDAR
VERSION:2.0
PRODID:-//project/author//NONSGML v1.0//EN
CALSCALE:GREGORIAN
BEGIN:VEVENT
DTEND;TZID=Europe/Vienna:20111114T133000
UID:76
DTSTAMP;TZID=Europe/Vienna:20260423T152354
LOCATION:KLI
SUMMARY:Biological Tools and Manufactured Tools as Encapsulated Routines
DTSTART;TZID=Europe/Vienna:20111114T133000
END:VEVENT
END:VCALENDAR