BEGIN:VCALENDAR
VERSION:2.0
PRODID:-//project/author//NONSGML v1.0//EN
CALSCALE:GREGORIAN
BEGIN:VEVENT
DTEND;TZID=Europe/Vienna:20240624T190000
UID:696
DTSTAMP;TZID=Europe/Vienna:20260421T152921
LOCATION:Sky Lounge\, University of Vienna Oskar-Morgenstern-Platz 1\, 1090 Vienna
SUMMARY:Too complex to understand? Bridging neuroscience and philosophy to build new tools to study the brain
DTSTART;TZID=Europe/Vienna:20240624T150000
END:VEVENT
END:VCALENDAR