BEGIN:VCALENDAR
VERSION:2.0
PRODID:-//project/author//NONSGML v1.0//EN
CALSCALE:GREGORIAN
BEGIN:VEVENT
DTEND;TZID=Europe/Vienna:20240624T203000
UID:695
DTSTAMP;TZID=Europe/Vienna:20260421T152819
LOCATION:Aula der Wissenschaften\, Wollzeile 27a\, 1010 Wien
SUMMARY:So früh wie möglich? Frühkindliche Förderung aus wissenschaftlicher Sicht
DTSTART;TZID=Europe/Vienna:20240624T190000
END:VEVENT
END:VCALENDAR