BEGIN:VCALENDAR
VERSION:2.0
PRODID:-//project/author//NONSGML v1.0//EN
CALSCALE:GREGORIAN
BEGIN:VEVENT
DTEND;TZID=Europe/Vienna:20240409T170000
UID:684
DTSTAMP;TZID=Europe/Vienna:20260426T040513
LOCATION:KLI
SUMMARY:About Split and Splice. A Phenomenology of Experimentation
DTSTART;TZID=Europe/Vienna:20240409T150000
END:VEVENT
END:VCALENDAR