BEGIN:VCALENDAR
VERSION:2.0
PRODID:-//project/author//NONSGML v1.0//EN
CALSCALE:GREGORIAN
BEGIN:VEVENT
DTEND;TZID=Europe/Vienna:20120124T131500
UID:233
DTSTAMP;TZID=Europe/Vienna:20260423T153441
LOCATION:KLI
SUMMARY:The Concept of Organismal Form in Contemporary Biology 
DTSTART;TZID=Europe/Vienna:20120124T131500
END:VEVENT
END:VCALENDAR